BEGIN:VCALENDAR
VERSION:2.0
PRODID:-//Google ICS Calendar Custom//NL//
BEGIN:VEVENT
UID:2ctkhvss9p3l83v3imrsqvsnon@google.com
DTSTAMP:20260420T134533Z
DTSTART:20260808T100000Z
DTEND:20260808T210000Z
SUMMARY:Fawaka Fest
DESCRIPTION:Fawaka Fest komt naar het Zuiderpark in Den Haag met een dag vol muziek\, sfeer en Surinaamse vibes. Dit festival\, georganiseerd door Hardcore Entertainment Suriname\, staat bekend om zijn energieke evenementen waar muziek en cultuur samenkomen.\nBezoekers kunnen zich voorbereiden op maar liefst 10 uurnon-stop live muziek\, verdeeld over meerdere stages met verschillende stijlen binnen de Surinaamse en internationale scene. Naast muziek is er volopruimte voor ontspanning met foodstands\, een chill area en diverse activiteiten.\nFawaka Fest richt zich op een volwassen publiek en belooft een levendige en feestelijke dag te worden midden in het groen van het Zuiderpark.\nExtra informatie\n18+ evenement\nMeer info en registratie via:
LOCATION:Zuiderpark\, Den Haag\, Nederland
END:VEVENT
END:VCALENDAR
