BEGIN:VCALENDAR
VERSION:2.0
PRODID:-//Google ICS Calendar Custom//NL//
BEGIN:VEVENT
UID:4s5bga5dis5mngopf8erkcgjf5@google.com
DTSTAMP:20260419T201503Z
DTSTART:20260514T113000Z
DTEND:20260514T130000Z
SUMMARY:Ouderenmiddag: Stadsboerderij de Herweijerhoeve
DESCRIPTION:Elke 2e donderdag van de maand kunt u gezellig langskomen voor een kopje thee of koffie met wat lekkerserbij. Natuurlijk is er ook gelegenheid om tijd met de dieren door te brengen. Aanmelden via (facebook) stadsboerderij of per e-mail.\nMail: stadsboerderijen@denhaag.nl\nTelefoon: 070-3295992
LOCATION:Stadsboerderij de Herweijerhoeve\, Anna Polakweg 7\, 2533 SW Den Haag\, Nederland
END:VEVENT
END:VCALENDAR
