BEGIN:VCALENDAR
VERSION:2.0
PRODID:-//Google ICS Calendar Custom//NL//
BEGIN:VEVENT
UID:51kcissdt3154jnkp6iip971sn@google.com
DTSTAMP:20260419T201355Z
DTSTART:20260425T070000Z
DTEND:20260425T090000Z
SUMMARY:Parkrun Zuiderpark
DESCRIPTION:Wat is Zuiderpark parkrun\, Den Haag?\nGratis\, leuk en vriendelijk. Een wekelijks 5km evenement\, georganiseerd voor en door de lokale gemeenschap. Iedereen is welkom om mee te doen\, of je nu loopt\, jogt\, rent\, meehelpt als vrijwilliger of gewoon langs de kant de lopers aanmoedigt.\nWanneer vindt het plaats?\nIedere zaterdagochtend om 9:00 am.\nWaar vindt het plaats?\nHet evenement vindt hier plaats: Zuiderpark\, Meester P. Droogleever Fortuynweg\, 2533 SR\, Den Haag.\nZie de routepagina voor meer informatie.\nWat kost het om mee te doen?\nNiks - het is gratis! Het enige wat je hoeft te doen is je te registreren vóór aanvang van je eerste deelname. Dit hoeft maar één keer. Vergeet niet om je scanbare barcodemee te nemen (stel een herinnering in). Barcode vergeten? Dan krijg je helaas geen resultaat.\nHoe snel moet ik zijn?\nWe doen allemaal mee voor ons eigen plezier. Kom gewoon langs en doe mee\,ongeacht je snelheid!\nZuiderpark parkrun\, Den Haag heeft je nodig!\nParkrun wordt volledig georganiseerd door vrijwilligers. Stuur een e-mail naar zuiderpark@parkrun.com als je mee wilt helpen.\nBescherming\nParkrun zet zich in voor de bescherming en bevordering van het welzijn vankinderen en kwetsbare volwassenen. Voor onze volledige processen en beleidsregels met betrekking tot bescherming verwijzen we naar onze Safeguarding Hub.\nOm een zorgwekkende situatie te melden kun je een e-mail sturen naar safeguarding@parkrun.com.\nKoffie na afloop\nElke week gaan we samen koffie drinken: de kantine van AV Sparta. Kom er gezellig bij!\nAlle informatie:
LOCATION:52.05571717550317\, 4.29092013581149
END:VEVENT
END:VCALENDAR
