BEGIN:VCALENDAR
VERSION:2.0
PRODID:-//Google ICS Calendar Custom//NL//
BEGIN:VEVENT
UID:7013a46baib3o2lfu41p3rg0o8@google.com
DTSTAMP:20260419T171420Z
DTSTART:20260919T080000Z
DTEND:20260919T150000Z
SUMMARY:Stadsspelen Den Haag: Gratis sport- en beweegfestival!
DESCRIPTION:Het gratis sport- en beweegfestival van Den Haag komt er weer aan! Op zaterdag 19 en zondag 20 september vindt de Stadsspelen Den Haag weer plaats in en rondom de Sportcampus Zuiderpark. Noteer het alvast in je agenda!\nTwee dagen vol sport en plezier\nTijdens de Stadsspelen verandert de Sportcampus Zuiderpark\, en het terrein eromheen\, in een gezellig én gratis sport- en beweegfestival. Van 10:00 tot 17:00 uur is er van alles te beleven voor jong en oud.
LOCATION:Sportcampus Zuiderpark\, Meester P. Droogleever Fortuynweg 22\, 2533 SR Den Haag\, Nederland
END:VEVENT
END:VCALENDAR
